BEGIN:VCALENDAR
VERSION:2.0
PRODID:-//Allegheny Mountain Radio - ECPv6.15.19//NONSGML v1.0//EN
CALSCALE:GREGORIAN
METHOD:PUBLISH
X-WR-CALNAME:Allegheny Mountain Radio
X-ORIGINAL-URL:https://www.alleghenymountainradio.org
X-WR-CALDESC:Events for Allegheny Mountain Radio
REFRESH-INTERVAL;VALUE=DURATION:PT1H
X-Robots-Tag:noindex
X-PUBLISHED-TTL:PT1H
BEGIN:VTIMEZONE
TZID:America/New_York
BEGIN:DAYLIGHT
TZOFFSETFROM:-0500
TZOFFSETTO:-0400
TZNAME:EDT
DTSTART:20140309T070000
END:DAYLIGHT
BEGIN:STANDARD
TZOFFSETFROM:-0400
TZOFFSETTO:-0500
TZNAME:EST
DTSTART:20141102T060000
END:STANDARD
BEGIN:DAYLIGHT
TZOFFSETFROM:-0500
TZOFFSETTO:-0400
TZNAME:EDT
DTSTART:20150308T070000
END:DAYLIGHT
BEGIN:STANDARD
TZOFFSETFROM:-0400
TZOFFSETTO:-0500
TZNAME:EST
DTSTART:20151101T060000
END:STANDARD
BEGIN:DAYLIGHT
TZOFFSETFROM:-0500
TZOFFSETTO:-0400
TZNAME:EDT
DTSTART:20160313T070000
END:DAYLIGHT
BEGIN:STANDARD
TZOFFSETFROM:-0400
TZOFFSETTO:-0500
TZNAME:EST
DTSTART:20161106T060000
END:STANDARD
END:VTIMEZONE
BEGIN:VEVENT
DTSTART;TZID=America/New_York:20150119T173000
DTEND;TZID=America/New_York:20150119T190000
DTSTAMP:20260423T170345
CREATED:20150104T153549Z
LAST-MODIFIED:20150104T153549Z
UID:8217-1421688600-1421694000@www.alleghenymountainradio.org
SUMMARY:PCCC Board Meeting
DESCRIPTION:Pocahontas Communications Cooperative Corporation \nBoard Meeting \nMonday\, January 19th\, 5:30pm \nWCHG Studio\, Hot Springs\, VA
URL:https://www.alleghenymountainradio.org/event/pccc-board-meeting/
LOCATION:WCHG\, 171 Charger Lane\, Hot Springs\, 24445
END:VEVENT
END:VCALENDAR