BEGIN:VCALENDAR
VERSION:2.0
PRODID:-//Allegheny Mountain Radio - ECPv6.15.19//NONSGML v1.0//EN
CALSCALE:GREGORIAN
METHOD:PUBLISH
X-ORIGINAL-URL:https://www.alleghenymountainradio.org
X-WR-CALDESC:Events for Allegheny Mountain Radio
REFRESH-INTERVAL;VALUE=DURATION:PT1H
X-Robots-Tag:noindex
X-PUBLISHED-TTL:PT1H
BEGIN:VTIMEZONE
TZID:America/New_York
BEGIN:DAYLIGHT
TZOFFSETFROM:-0500
TZOFFSETTO:-0400
TZNAME:EDT
DTSTART:20140309T070000
END:DAYLIGHT
BEGIN:STANDARD
TZOFFSETFROM:-0400
TZOFFSETTO:-0500
TZNAME:EST
DTSTART:20141102T060000
END:STANDARD
BEGIN:DAYLIGHT
TZOFFSETFROM:-0500
TZOFFSETTO:-0400
TZNAME:EDT
DTSTART:20150308T070000
END:DAYLIGHT
BEGIN:STANDARD
TZOFFSETFROM:-0400
TZOFFSETTO:-0500
TZNAME:EST
DTSTART:20151101T060000
END:STANDARD
BEGIN:DAYLIGHT
TZOFFSETFROM:-0500
TZOFFSETTO:-0400
TZNAME:EDT
DTSTART:20160313T070000
END:DAYLIGHT
BEGIN:STANDARD
TZOFFSETFROM:-0400
TZOFFSETTO:-0500
TZNAME:EST
DTSTART:20161106T060000
END:STANDARD
END:VTIMEZONE
BEGIN:VEVENT
DTSTART;TZID=America/New_York:20150311T053000
DTEND;TZID=America/New_York:20150311T190000
DTSTAMP:20260423T140921
CREATED:20150308T155038Z
LAST-MODIFIED:20150311T192011Z
UID:8585-1426051800-1426100400@www.alleghenymountainradio.org
SUMMARY:WVMR CAC Meeting has been cancelled!
DESCRIPTION:The next meeting of the WVMR CAC meeting is Wednesday\, March 11th at 5:30 pm at the WVMR studio in Dunmore\, WV. The public is welcome. \n  \nThe meeting scheduled for tonight has been cancelled!
URL:https://www.alleghenymountainradio.org/event/wvmr-cac-meeting/
LOCATION:WVMR Studio\, 9836 Browns Creek Road\, Dunmore\, WV\, 24946\, United States
END:VEVENT
BEGIN:VEVENT
DTSTART;TZID=America/New_York:20150327T053000
DTEND;TZID=America/New_York:20150327T190000
DTSTAMP:20260423T140921
CREATED:20150322T142901Z
LAST-MODIFIED:20150322T142901Z
UID:8641-1427434200-1427482800@www.alleghenymountainradio.org
SUMMARY:WVMR CAC Meeting
DESCRIPTION:WVMR CAC will hold their meeting Friday\, March 27th at the WVMR Studios at 5:30 pm the public is welcome.
URL:https://www.alleghenymountainradio.org/event/wvmr-cac-meeting-2/
LOCATION:WVMR Studio\, 9836 Browns Creek Road\, Dunmore\, WV\, 24946\, United States
END:VEVENT
END:VCALENDAR