BEGIN:VCALENDAR
VERSION:2.0
PRODID:-//Allegheny Mountain Radio - ECPv6.15.19//NONSGML v1.0//EN
CALSCALE:GREGORIAN
METHOD:PUBLISH
X-ORIGINAL-URL:https://www.alleghenymountainradio.org
X-WR-CALDESC:Events for Allegheny Mountain Radio
REFRESH-INTERVAL;VALUE=DURATION:PT1H
X-Robots-Tag:noindex
X-PUBLISHED-TTL:PT1H
BEGIN:VTIMEZONE
TZID:America/New_York
BEGIN:DAYLIGHT
TZOFFSETFROM:-0500
TZOFFSETTO:-0400
TZNAME:EDT
DTSTART:20140309T070000
END:DAYLIGHT
BEGIN:STANDARD
TZOFFSETFROM:-0400
TZOFFSETTO:-0500
TZNAME:EST
DTSTART:20141102T060000
END:STANDARD
BEGIN:DAYLIGHT
TZOFFSETFROM:-0500
TZOFFSETTO:-0400
TZNAME:EDT
DTSTART:20150308T070000
END:DAYLIGHT
BEGIN:STANDARD
TZOFFSETFROM:-0400
TZOFFSETTO:-0500
TZNAME:EST
DTSTART:20151101T060000
END:STANDARD
BEGIN:DAYLIGHT
TZOFFSETFROM:-0500
TZOFFSETTO:-0400
TZNAME:EDT
DTSTART:20160313T070000
END:DAYLIGHT
BEGIN:STANDARD
TZOFFSETFROM:-0400
TZOFFSETTO:-0500
TZNAME:EST
DTSTART:20161106T060000
END:STANDARD
END:VTIMEZONE
BEGIN:VEVENT
DTSTART;TZID=America/New_York:20151022T180000
DTEND;TZID=America/New_York:20151022T193000
DTSTAMP:20260423T035824
CREATED:20150104T153732Z
LAST-MODIFIED:20151015T204040Z
UID:8218-1445536800-1445542200@www.alleghenymountainradio.org
SUMMARY:WVLS CAC Meeting
DESCRIPTION:WVLS Community Advisory Committee Meeting \nThursday\, October 22nd\, 6:00pm \nWVLS Studio\, Monterey\, VA
URL:https://www.alleghenymountainradio.org/event/wvls-cac-meeting/
LOCATION:WVLS Studio\, 80 E. Main Street\, Monterey\, VA\, 24465\, United States
END:VEVENT
END:VCALENDAR