BEGIN:VCALENDAR
VERSION:2.0
PRODID:-//Allegheny Mountain Radio - ECPv6.15.19//NONSGML v1.0//EN
CALSCALE:GREGORIAN
METHOD:PUBLISH
X-ORIGINAL-URL:https://www.alleghenymountainradio.org
X-WR-CALDESC:Events for Allegheny Mountain Radio
REFRESH-INTERVAL;VALUE=DURATION:PT1H
X-Robots-Tag:noindex
X-PUBLISHED-TTL:PT1H
BEGIN:VTIMEZONE
TZID:America/New_York
BEGIN:DAYLIGHT
TZOFFSETFROM:-0500
TZOFFSETTO:-0400
TZNAME:EDT
DTSTART:20150308T070000
END:DAYLIGHT
BEGIN:STANDARD
TZOFFSETFROM:-0400
TZOFFSETTO:-0500
TZNAME:EST
DTSTART:20151101T060000
END:STANDARD
BEGIN:DAYLIGHT
TZOFFSETFROM:-0500
TZOFFSETTO:-0400
TZNAME:EDT
DTSTART:20160313T070000
END:DAYLIGHT
BEGIN:STANDARD
TZOFFSETFROM:-0400
TZOFFSETTO:-0500
TZNAME:EST
DTSTART:20161106T060000
END:STANDARD
BEGIN:DAYLIGHT
TZOFFSETFROM:-0500
TZOFFSETTO:-0400
TZNAME:EDT
DTSTART:20170312T070000
END:DAYLIGHT
BEGIN:STANDARD
TZOFFSETFROM:-0400
TZOFFSETTO:-0500
TZNAME:EST
DTSTART:20171105T060000
END:STANDARD
END:VTIMEZONE
BEGIN:VEVENT
DTSTART;TZID=America/New_York:20160409T180000
DTEND;TZID=America/New_York:20160409T210000
DTSTAMP:20260422T191401
CREATED:20160223T225827Z
LAST-MODIFIED:20160223T225945Z
UID:10529-1460224800-1460235600@www.alleghenymountainradio.org
SUMMARY:14th Annual Bath Bluegrass Jamboree
DESCRIPTION:  \n  \nThe 14th Annual Bath Bluegrass Jamboree will be held on Saturday\, April 9th from 6 – 9 pm at Bath County High School! Featuring the Darrell Webb Band\, FlattBroke\, Southern Rail Express and a guest appearance by the Allegheny Mountain String Project. Admission is $10.00 adults\, $5.00 age 13 – 18 and $1.00 for 12 and under! This is a fundraiser for Allegheny Mountain Radio! For more information 540-839-5400 or 540-839-2060 or richard@amrmail.org. \nWe hope to see you there. Fun will be had by all!
URL:https://www.alleghenymountainradio.org/event/14th-annual-bath-bluegrass-jamboree/
LOCATION:Bath County High School\, 171 Charger Way\, Hot Springs\, VA\, United States
END:VEVENT
BEGIN:VEVENT
DTSTART;TZID=America/New_York:20160417T130000
DTEND;TZID=America/New_York:20160417T160000
DTSTAMP:20260422T191401
CREATED:20160406T170547Z
LAST-MODIFIED:20160407T161524Z
UID:10823-1460898000-1460908800@www.alleghenymountainradio.org
SUMMARY:Bluegrass Sunday Live\, April 17th 1-4 pm
DESCRIPTION:  \nJoin us on Sunday\, April 17th from 1 to 4 pm at our WVMR studio in Dunmore\, West Virginia for Bluegrass Sunday Live! \nCome on down to the studio to see it and hear it live or tune in on your local station or www.alleghenymountainradio.org! \nThis is a fundraiser for Allegheny Mountain Radio!
URL:https://www.alleghenymountainradio.org/event/bluegrass-sunday-live-april-17th-1-4-pm/
LOCATION:WVMR Studio\, 9836 Browns Creek Road\, Dunmore\, WV\, 24946\, United States
END:VEVENT
END:VCALENDAR