BEGIN:VCALENDAR
VERSION:2.0
PRODID:-//Allegheny Mountain Radio - ECPv6.15.19//NONSGML v1.0//EN
CALSCALE:GREGORIAN
METHOD:PUBLISH
X-WR-CALNAME:Allegheny Mountain Radio
X-ORIGINAL-URL:https://www.alleghenymountainradio.org
X-WR-CALDESC:Events for Allegheny Mountain Radio
REFRESH-INTERVAL;VALUE=DURATION:PT1H
X-Robots-Tag:noindex
X-PUBLISHED-TTL:PT1H
BEGIN:VTIMEZONE
TZID:America/New_York
BEGIN:DAYLIGHT
TZOFFSETFROM:-0500
TZOFFSETTO:-0400
TZNAME:EDT
DTSTART:20150308T070000
END:DAYLIGHT
BEGIN:STANDARD
TZOFFSETFROM:-0400
TZOFFSETTO:-0500
TZNAME:EST
DTSTART:20151101T060000
END:STANDARD
BEGIN:DAYLIGHT
TZOFFSETFROM:-0500
TZOFFSETTO:-0400
TZNAME:EDT
DTSTART:20160313T070000
END:DAYLIGHT
BEGIN:STANDARD
TZOFFSETFROM:-0400
TZOFFSETTO:-0500
TZNAME:EST
DTSTART:20161106T060000
END:STANDARD
BEGIN:DAYLIGHT
TZOFFSETFROM:-0500
TZOFFSETTO:-0400
TZNAME:EDT
DTSTART:20170312T070000
END:DAYLIGHT
BEGIN:STANDARD
TZOFFSETFROM:-0400
TZOFFSETTO:-0500
TZNAME:EST
DTSTART:20171105T060000
END:STANDARD
END:VTIMEZONE
BEGIN:VEVENT
DTSTART;TZID=America/New_York:20161006T173000
DTEND;TZID=America/New_York:20161006T193000
DTSTAMP:20260422T093901
CREATED:20160921T153524Z
LAST-MODIFIED:20160921T153948Z
UID:11826-1475775000-1475782200@www.alleghenymountainradio.org
SUMMARY:PCCC October Board - Closed Meeting
DESCRIPTION:The PCCC Board will hold a closed meeting to discuss Personnel Matters/Human Resources Thursday\, October 6th\, at 5:30 pm at the WVLS studio in Monterey\, VA.
URL:https://www.alleghenymountainradio.org/event/pccc-october-board-closed-meeting/
LOCATION:WVLS Studio\, 80 E. Main Street\, Monterey\, VA\, 24465\, United States
END:VEVENT
END:VCALENDAR