BEGIN:VCALENDAR
VERSION:2.0
PRODID:-//Allegheny Mountain Radio - ECPv6.15.19//NONSGML v1.0//EN
CALSCALE:GREGORIAN
METHOD:PUBLISH
X-WR-CALNAME:Allegheny Mountain Radio
X-ORIGINAL-URL:https://www.alleghenymountainradio.org
X-WR-CALDESC:Events for Allegheny Mountain Radio
REFRESH-INTERVAL;VALUE=DURATION:PT1H
X-Robots-Tag:noindex
X-PUBLISHED-TTL:PT1H
BEGIN:VTIMEZONE
TZID:America/New_York
BEGIN:DAYLIGHT
TZOFFSETFROM:-0500
TZOFFSETTO:-0400
TZNAME:EDT
DTSTART:20160313T070000
END:DAYLIGHT
BEGIN:STANDARD
TZOFFSETFROM:-0400
TZOFFSETTO:-0500
TZNAME:EST
DTSTART:20161106T060000
END:STANDARD
BEGIN:DAYLIGHT
TZOFFSETFROM:-0500
TZOFFSETTO:-0400
TZNAME:EDT
DTSTART:20170312T070000
END:DAYLIGHT
BEGIN:STANDARD
TZOFFSETFROM:-0400
TZOFFSETTO:-0500
TZNAME:EST
DTSTART:20171105T060000
END:STANDARD
BEGIN:DAYLIGHT
TZOFFSETFROM:-0500
TZOFFSETTO:-0400
TZNAME:EDT
DTSTART:20180311T070000
END:DAYLIGHT
BEGIN:STANDARD
TZOFFSETFROM:-0400
TZOFFSETTO:-0500
TZNAME:EST
DTSTART:20181104T060000
END:STANDARD
END:VTIMEZONE
BEGIN:VEVENT
DTSTART;TZID=America/New_York:20171204T173000
DTEND;TZID=America/New_York:20171204T190000
DTSTAMP:20260421T090237
CREATED:20170316T183533Z
LAST-MODIFIED:20170404T201435Z
UID:12668-1512408600-1512414000@www.alleghenymountainradio.org
SUMMARY:PCCC December Board Meeting
DESCRIPTION:The December meeting of the PCCC Board will be on Monday\, December 4th at 5:30 pm at the WCHG studio\, 171 Charger Ln.\, Hot Springs\, VA\, 24445 . Everyone is welcome.
URL:https://www.alleghenymountainradio.org/event/12668/
LOCATION:WCHG\, 171 Charger Lane\, Hot Springs\, 24445
END:VEVENT
END:VCALENDAR