BEGIN:VCALENDAR
VERSION:2.0
PRODID:-//Allegheny Mountain Radio - ECPv6.15.19//NONSGML v1.0//EN
CALSCALE:GREGORIAN
METHOD:PUBLISH
X-ORIGINAL-URL:https://www.alleghenymountainradio.org
X-WR-CALDESC:Events for Allegheny Mountain Radio
REFRESH-INTERVAL;VALUE=DURATION:PT1H
X-Robots-Tag:noindex
X-PUBLISHED-TTL:PT1H
BEGIN:VTIMEZONE
TZID:America/New_York
BEGIN:DAYLIGHT
TZOFFSETFROM:-0500
TZOFFSETTO:-0400
TZNAME:EDT
DTSTART:20210314T070000
END:DAYLIGHT
BEGIN:STANDARD
TZOFFSETFROM:-0400
TZOFFSETTO:-0500
TZNAME:EST
DTSTART:20211107T060000
END:STANDARD
BEGIN:DAYLIGHT
TZOFFSETFROM:-0500
TZOFFSETTO:-0400
TZNAME:EDT
DTSTART:20220313T070000
END:DAYLIGHT
BEGIN:STANDARD
TZOFFSETFROM:-0400
TZOFFSETTO:-0500
TZNAME:EST
DTSTART:20221106T060000
END:STANDARD
BEGIN:DAYLIGHT
TZOFFSETFROM:-0500
TZOFFSETTO:-0400
TZNAME:EDT
DTSTART:20230312T070000
END:DAYLIGHT
BEGIN:STANDARD
TZOFFSETFROM:-0400
TZOFFSETTO:-0500
TZNAME:EST
DTSTART:20231105T060000
END:STANDARD
END:VTIMEZONE
BEGIN:VEVENT
DTSTART;TZID=America/New_York:20220327T110000
DTEND;TZID=America/New_York:20220327T143000
DTSTAMP:20260424T101424
CREATED:20220314T192144Z
LAST-MODIFIED:20220314T192144Z
UID:22202-1648378800-1648391400@www.alleghenymountainradio.org
SUMMARY:PCCC Board of Directors 1st Quarter Meeting
DESCRIPTION:The Pocahontas Communications Cooperative Corporation Board of Directors will hold it’s 1st Quarter Meeting Sunday\, March 27th\, immediately following it’s Annual Meeting for cooperative members. The Annual Meeting will begin at 11:00 am\, and will be held at The Highland Center\, at 61 Highland Center Drive in Monterey\, VA 24465. The Quarterly Meeting will begin immediately after the Annual Meeting is adjourned\, and is open to the public. \nFor more information:  304-799-6004.
URL:https://www.alleghenymountainradio.org/event/pccc-board-of-directors-1st-quarter-meeting/
LOCATION:The Highland Center\, 61 Highland Center Drive\, Monterey\, VA\, 24465\, United States
END:VEVENT
END:VCALENDAR