BEGIN:VCALENDAR
VERSION:2.0
PRODID:-//Allegheny Mountain Radio - ECPv6.15.19//NONSGML v1.0//EN
CALSCALE:GREGORIAN
METHOD:PUBLISH
X-WR-CALNAME:Allegheny Mountain Radio
X-ORIGINAL-URL:https://www.alleghenymountainradio.org
X-WR-CALDESC:Events for Allegheny Mountain Radio
REFRESH-INTERVAL;VALUE=DURATION:PT1H
X-Robots-Tag:noindex
X-PUBLISHED-TTL:PT1H
BEGIN:VTIMEZONE
TZID:America/New_York
BEGIN:DAYLIGHT
TZOFFSETFROM:-0500
TZOFFSETTO:-0400
TZNAME:EDT
DTSTART:20210314T070000
END:DAYLIGHT
BEGIN:STANDARD
TZOFFSETFROM:-0400
TZOFFSETTO:-0500
TZNAME:EST
DTSTART:20211107T060000
END:STANDARD
BEGIN:DAYLIGHT
TZOFFSETFROM:-0500
TZOFFSETTO:-0400
TZNAME:EDT
DTSTART:20220313T070000
END:DAYLIGHT
BEGIN:STANDARD
TZOFFSETFROM:-0400
TZOFFSETTO:-0500
TZNAME:EST
DTSTART:20221106T060000
END:STANDARD
BEGIN:DAYLIGHT
TZOFFSETFROM:-0500
TZOFFSETTO:-0400
TZNAME:EDT
DTSTART:20230312T070000
END:DAYLIGHT
BEGIN:STANDARD
TZOFFSETFROM:-0400
TZOFFSETTO:-0500
TZNAME:EST
DTSTART:20231105T060000
END:STANDARD
END:VTIMEZONE
BEGIN:VEVENT
DTSTART;TZID=America/New_York:20220711T180000
DTEND;TZID=America/New_York:20220711T190000
DTSTAMP:20260424T043311
CREATED:20220710T213923Z
LAST-MODIFIED:20220711T131149Z
UID:22813-1657562400-1657566000@www.alleghenymountainradio.org
SUMMARY:WVLS Community Advisory Committee 2nd Quarter Meeting
DESCRIPTION:The WVLS CAC will meet Thursday\, July 21st at 6:00 pm at Hulls’ Hideaway Restaurant in Monterey\, Va.
URL:https://www.alleghenymountainradio.org/event/wvls-community-advisory-committee/
END:VEVENT
BEGIN:VEVENT
DTSTART;TZID=America/New_York:20220725T130000
DTEND;TZID=America/New_York:20220725T140000
DTSTAMP:20260424T043311
CREATED:20220714T175411Z
LAST-MODIFIED:20220718T193106Z
UID:22857-1658754000-1658757600@www.alleghenymountainradio.org
SUMMARY:Pocahontas Communications Cooperative Board of Directors Strategic Planning Meeting
DESCRIPTION:The PCCC Board of Directors will hold a strategic planning meeting Monday\, July 25th at 1:00 pm  at the Frost studios in Dunmore West Virginia\, and virtually via Zoom. \nLog in information is below: \nTopic: PCCC Strategic Planning Meeting\nTime: Jul 25\, 2022 01:00 PM Eastern Time (US and Canada) \nJoin Zoom Meeting\nhttps://us06web.zoom.us/j/89357366636?pwd=akFNeFZQdDNFcGpaZG1XZnZIRUltZz09 \nMeeting ID: 893 5736 6636\nPasscode: 171102\nOne tap mobile\n+13017158592\,\,89357366636#\,\,\,\,*171102# US (Washington DC)\n+13126266799\,\,89357366636#\,\,\,\,*171102# US (Chicago) \nDial by your location\n+1 301 715 8592 US (Washington DC)\n+1 312 626 6799 US (Chicago)\n+1 646 931 3860 US\n+1 929 205 6099 US (New York)\n+1 253 215 8782 US (Tacoma)\n+1 346 248 7799 US (Houston)\n+1 669 444 9171 US\n+1 669 900 6833 US (San Jose)\nMeeting ID: 893 5736 6636\nPasscode: 171102\nFind your local number: https://us06web.zoom.us/u/kcOlEBGagb \n  \n 
URL:https://www.alleghenymountainradio.org/event/pocahontas-communications-cooperative-board-of-directors-strategic-planning-meeting/
END:VEVENT
BEGIN:VEVENT
DTSTART;TZID=America/New_York:20220725T173000
DTEND;TZID=America/New_York:20220725T183000
DTSTAMP:20260424T043311
CREATED:20220714T160702Z
LAST-MODIFIED:20220718T193014Z
UID:22855-1658770200-1658773800@www.alleghenymountainradio.org
SUMMARY:Pocahontas Communications Board of Directors - Called Meeting
DESCRIPTION:The PCCC Board of Directors has called a meeting to discuss hiring on Monday\, June 25th\, at 5:30 pm at the WVMR Studio in Frost\, WV. The meeting will also be available via Zoom. Instructions for loggong in are below: \nTopic: PCCC Board of Directors Called Meeting\nTime: Jul 25\, 2022 05:30 PM Eastern Time (US and Canada) \nJoin Zoom Meeting\nhttps://us06web.zoom.us/j/83166362229?pwd=MXZZWDlQQTBrczREZXdyRUxxZnlodz09 \nMeeting ID: 831 6636 2229\nPasscode: 116731\nOne tap mobile\n+19292056099\,\,83166362229#\,\,\,\,*116731# US (New York)\n+13017158592\,\,83166362229#\,\,\,\,*116731# US (Washington DC) \nDial by your location\n+1 929 205 6099 US (New York)\n+1 301 715 8592 US (Washington DC)\n+1 312 626 6799 US (Chicago)\n+1 646 931 3860 US\n+1 669 900 6833 US (San Jose)\n+1 253 215 8782 US (Tacoma)\n+1 346 248 7799 US (Houston)\n+1 669 444 9171 US\nMeeting ID: 831 6636 2229\nPasscode: 116731\nFind your local number: https://us06web.zoom.us/u/kmzIVkuxb \n 
URL:https://www.alleghenymountainradio.org/event/pocahontas-communications-board-of-directors-called-meeting/
END:VEVENT
END:VCALENDAR