BEGIN:VCALENDAR
VERSION:2.0
PRODID:-//Allegheny Mountain Radio - ECPv6.15.19//NONSGML v1.0//EN
CALSCALE:GREGORIAN
METHOD:PUBLISH
X-ORIGINAL-URL:https://www.alleghenymountainradio.org
X-WR-CALDESC:Events for Allegheny Mountain Radio
REFRESH-INTERVAL;VALUE=DURATION:PT1H
X-Robots-Tag:noindex
X-PUBLISHED-TTL:PT1H
BEGIN:VTIMEZONE
TZID:America/New_York
BEGIN:DAYLIGHT
TZOFFSETFROM:-0500
TZOFFSETTO:-0400
TZNAME:EDT
DTSTART:20210314T070000
END:DAYLIGHT
BEGIN:STANDARD
TZOFFSETFROM:-0400
TZOFFSETTO:-0500
TZNAME:EST
DTSTART:20211107T060000
END:STANDARD
BEGIN:DAYLIGHT
TZOFFSETFROM:-0500
TZOFFSETTO:-0400
TZNAME:EDT
DTSTART:20220313T070000
END:DAYLIGHT
BEGIN:STANDARD
TZOFFSETFROM:-0400
TZOFFSETTO:-0500
TZNAME:EST
DTSTART:20221106T060000
END:STANDARD
BEGIN:DAYLIGHT
TZOFFSETFROM:-0500
TZOFFSETTO:-0400
TZNAME:EDT
DTSTART:20230312T070000
END:DAYLIGHT
BEGIN:STANDARD
TZOFFSETFROM:-0400
TZOFFSETTO:-0500
TZNAME:EST
DTSTART:20231105T060000
END:STANDARD
END:VTIMEZONE
BEGIN:VEVENT
DTSTART;TZID=America/New_York:20220912T173000
DTEND;TZID=America/New_York:20220912T193000
DTSTAMP:20260424T015156
CREATED:20220823T140420Z
LAST-MODIFIED:20220823T140420Z
UID:23351-1663003800-1663011000@www.alleghenymountainradio.org
SUMMARY:Pocahontas Communications Cooperative Corporation Board of Directors Quarterly Meeting
DESCRIPTION:The PCCC Board of Directors will hold a regular quarterly meeting Monday\, September 12th\, at the WVMR studio in Frost WV at 5:30 pm. \nThe meeting will also be available virtually – instructions for logging in are below. \nTopic: PCCC Board – Quarterly Meeting\nTime: Sep 12\, 2022 05:30 PM Eastern Time (US and Canada) \nJoin Zoom Meeting\nhttps://us06web.zoom.us/j/89878230880?pwd=VCswZXlyZTRYcXFMMTVUdngvdW9rQT09 \nMeeting ID: 898 7823 0880\nPasscode: 635396\nOne tap mobile\n+13017158592\,\,89878230880#\,\,\,\,*635396# US (Washington DC)\n+13092053325\,\,89878230880#\,\,\,\,*635396# US \nDial by your location\n+1 301 715 8592 US (Washington DC)\n+1 309 205 3325 US\n+1 312 626 6799 US (Chicago)\n+1 646 931 3860 US\n+1 929 205 6099 US (New York)\n+1 564 217 2000 US\n+1 669 444 9171 US\n+1 669 900 6833 US (San Jose)\n+1 719 359 4580 US\n+1 253 215 8782 US (Tacoma)\n+1 346 248 7799 US (Houston)\n+1 386 347 5053 US\nMeeting ID: 898 7823 0880\nPasscode: 635396\nFind your local number: https://us06web.zoom.us/u/khAHOfAdt \n 
URL:https://www.alleghenymountainradio.org/event/pocahontas-communications-cooperative-corporation-board-of-directors-quarterly-meeting/
END:VEVENT
END:VCALENDAR