BEGIN:VCALENDAR
VERSION:2.0
PRODID:-//Allegheny Mountain Radio - ECPv6.15.19//NONSGML v1.0//EN
CALSCALE:GREGORIAN
METHOD:PUBLISH
X-WR-CALNAME:Allegheny Mountain Radio
X-ORIGINAL-URL:https://www.alleghenymountainradio.org
X-WR-CALDESC:Events for Allegheny Mountain Radio
REFRESH-INTERVAL;VALUE=DURATION:PT1H
X-Robots-Tag:noindex
X-PUBLISHED-TTL:PT1H
BEGIN:VTIMEZONE
TZID:America/New_York
BEGIN:DAYLIGHT
TZOFFSETFROM:-0500
TZOFFSETTO:-0400
TZNAME:EDT
DTSTART:20210314T070000
END:DAYLIGHT
BEGIN:STANDARD
TZOFFSETFROM:-0400
TZOFFSETTO:-0500
TZNAME:EST
DTSTART:20211107T060000
END:STANDARD
BEGIN:DAYLIGHT
TZOFFSETFROM:-0500
TZOFFSETTO:-0400
TZNAME:EDT
DTSTART:20220313T070000
END:DAYLIGHT
BEGIN:STANDARD
TZOFFSETFROM:-0400
TZOFFSETTO:-0500
TZNAME:EST
DTSTART:20221106T060000
END:STANDARD
BEGIN:DAYLIGHT
TZOFFSETFROM:-0500
TZOFFSETTO:-0400
TZNAME:EDT
DTSTART:20230312T070000
END:DAYLIGHT
BEGIN:STANDARD
TZOFFSETFROM:-0400
TZOFFSETTO:-0500
TZNAME:EST
DTSTART:20231105T060000
END:STANDARD
END:VTIMEZONE
BEGIN:VEVENT
DTSTART;TZID=America/New_York:20221205T173000
DTEND;TZID=America/New_York:20221205T190000
DTSTAMP:20260423T220955
CREATED:20221118T182707Z
LAST-MODIFIED:20221118T182707Z
UID:24238-1670261400-1670266800@www.alleghenymountainradio.org
SUMMARY:Pocahontas Communications Cooperative Corporation Quarterly Board Meeting
DESCRIPTION:The PCCC Board of Directors will hold a quarterly meeting Monday\, December 5th at the WVLS studio at 80 East Main Street in Monterey\, VA at 5:30 pm. \nAn online option for attending is available – please see log-in information below. \n  \nJoin Zoom Meeting\nhttps://us06web.zoom.us/j/86531699922?pwd=WWM4eU1TUkRYSTNiY0pPZTI1OWlYQT09 \nMeeting ID: 865 3169 9922\nPasscode: 837895\nOne tap mobile\n+13017158592\,\,86531699922#\,\,\,\,*837895# US (Washington DC)\n+13052241968\,\,86531699922#\,\,\,\,*837895# US \nDial by your location\n+1 301 715 8592 US (Washington DC)\n+1 305 224 1968 US\n+1 309 205 3325 US\n+1 312 626 6799 US (Chicago)\n+1 646 931 3860 US\n+1 929 205 6099 US (New York)\n+1 360 209 5623 US\n+1 386 347 5053 US\n+1 507 473 4847 US\n+1 564 217 2000 US\n+1 669 444 9171 US\n+1 669 900 6833 US (San Jose)\n+1 689 278 1000 US\n+1 719 359 4580 US\n+1 253 205 0468 US\n+1 253 215 8782 US (Tacoma)\n+1 346 248 7799 US (Houston)\nMeeting ID: 865 3169 9922\nPasscode: 837895\nFind your local number: https://us06web.zoom.us/u/kbAsdVTR4q \n 
URL:https://www.alleghenymountainradio.org/event/pocahontas-communications-cooperative-corporation-quarterly-board-meeting/
LOCATION:WVLS Studio\, 80 E. Main Street\, Monterey\, VA\, 24465\, United States
END:VEVENT
END:VCALENDAR