BEGIN:VCALENDAR
VERSION:2.0
PRODID:-//Allegheny Mountain Radio - ECPv6.15.19//NONSGML v1.0//EN
CALSCALE:GREGORIAN
METHOD:PUBLISH
X-ORIGINAL-URL:https://www.alleghenymountainradio.org
X-WR-CALDESC:Events for Allegheny Mountain Radio
REFRESH-INTERVAL;VALUE=DURATION:PT1H
X-Robots-Tag:noindex
X-PUBLISHED-TTL:PT1H
BEGIN:VTIMEZONE
TZID:America/New_York
BEGIN:DAYLIGHT
TZOFFSETFROM:-0500
TZOFFSETTO:-0400
TZNAME:EDT
DTSTART:20220313T070000
END:DAYLIGHT
BEGIN:STANDARD
TZOFFSETFROM:-0400
TZOFFSETTO:-0500
TZNAME:EST
DTSTART:20221106T060000
END:STANDARD
BEGIN:DAYLIGHT
TZOFFSETFROM:-0500
TZOFFSETTO:-0400
TZNAME:EDT
DTSTART:20230312T070000
END:DAYLIGHT
BEGIN:STANDARD
TZOFFSETFROM:-0400
TZOFFSETTO:-0500
TZNAME:EST
DTSTART:20231105T060000
END:STANDARD
BEGIN:DAYLIGHT
TZOFFSETFROM:-0500
TZOFFSETTO:-0400
TZNAME:EDT
DTSTART:20240310T070000
END:DAYLIGHT
BEGIN:STANDARD
TZOFFSETFROM:-0400
TZOFFSETTO:-0500
TZNAME:EST
DTSTART:20241103T060000
END:STANDARD
END:VTIMEZONE
BEGIN:VEVENT
DTSTART;TZID=America/New_York:20231130T190000
DTEND;TZID=America/New_York:20231130T200000
DTSTAMP:20260423T071444
CREATED:20231121T141851Z
LAST-MODIFIED:20231121T142008Z
UID:25545-1701370800-1701374400@www.alleghenymountainradio.org
SUMMARY:WVMR Community Advisory Committee Quarterly Meeting
DESCRIPTION:The WVMR CAC will hold a quarterly meeting via Zoom Thursday\, November 30th at 7:00 pm. \nInstructions for attending below. \nTopic: WVMR CAC Quarterly Meeting\nTime: Nov 30\, 2023 07:00 PM Eastern Time (US and Canada) \nJoin Zoom Meeting\nhttps://us06web.zoom.us/j/86565213977?pwd=VOjM3ZFnC09sAt5fcPbHOgKlWU8lo2.1 \nMeeting ID: 865 6521 3977\nPasscode: 255896 \n— \nOne tap mobile\n+13052241968\,\,86565213977#\,\,\,\,*255896# US\n+13092053325\,\,86565213977#\,\,\,\,*255896# US \n— \nDial by your location\n• +1 305 224 1968 US\n• +1 309 205 3325 US\n• +1 312 626 6799 US (Chicago)\n• +1 646 931 3860 US\n• +1 929 205 6099 US (New York)\n• +1 301 715 8592 US (Washington DC)\n• +1 253 205 0468 US\n• +1 253 215 8782 US (Tacoma)\n• +1 346 248 7799 US (Houston)\n• +1 360 209 5623 US\n• +1 386 347 5053 US\n• +1 507 473 4847 US\n• +1 564 217 2000 US\n• +1 669 444 9171 US\n• +1 669 900 6833 US (San Jose)\n• +1 689 278 1000 US\n• +1 719 359 4580 US \nMeeting ID: 865 6521 3977\nPasscode: 255896 \nFind your local number: https://us06web.zoom.us/u/kc9ML8Yi1y \n 
URL:https://www.alleghenymountainradio.org/event/wvmr-community-advisory-committee-quarterly-meeting-2/
END:VEVENT
END:VCALENDAR