BEGIN:VCALENDAR
VERSION:2.0
PRODID:-//Allegheny Mountain Radio - ECPv6.15.19//NONSGML v1.0//EN
CALSCALE:GREGORIAN
METHOD:PUBLISH
X-WR-CALNAME:Allegheny Mountain Radio
X-ORIGINAL-URL:https://www.alleghenymountainradio.org
X-WR-CALDESC:Events for Allegheny Mountain Radio
REFRESH-INTERVAL;VALUE=DURATION:PT1H
X-Robots-Tag:noindex
X-PUBLISHED-TTL:PT1H
BEGIN:VTIMEZONE
TZID:America/New_York
BEGIN:DAYLIGHT
TZOFFSETFROM:-0500
TZOFFSETTO:-0400
TZNAME:EDT
DTSTART:20220313T070000
END:DAYLIGHT
BEGIN:STANDARD
TZOFFSETFROM:-0400
TZOFFSETTO:-0500
TZNAME:EST
DTSTART:20221106T060000
END:STANDARD
BEGIN:DAYLIGHT
TZOFFSETFROM:-0500
TZOFFSETTO:-0400
TZNAME:EDT
DTSTART:20230312T070000
END:DAYLIGHT
BEGIN:STANDARD
TZOFFSETFROM:-0400
TZOFFSETTO:-0500
TZNAME:EST
DTSTART:20231105T060000
END:STANDARD
BEGIN:DAYLIGHT
TZOFFSETFROM:-0500
TZOFFSETTO:-0400
TZNAME:EDT
DTSTART:20240310T070000
END:DAYLIGHT
BEGIN:STANDARD
TZOFFSETFROM:-0400
TZOFFSETTO:-0500
TZNAME:EST
DTSTART:20241103T060000
END:STANDARD
END:VTIMEZONE
BEGIN:VEVENT
DTSTART;TZID=America/New_York:20231204T180000
DTEND;TZID=America/New_York:20231204T200000
DTSTAMP:20260423T054003
CREATED:20231121T173059Z
LAST-MODIFIED:20231121T173059Z
UID:25547-1701712800-1701720000@www.alleghenymountainradio.org
SUMMARY:PCCC Board of Directors Quarterly Meeting
DESCRIPTION:The Pocahontas Communications Cooperative Corporation Board of Directors will hold a quarterly meeting Monday\, December 4th at 6:00 pm at the WVMR Studio at 9836 Browns Creek Rd.\, Dunmore WV\, 24934. The meeting will also be held virtually – instructions for attending via Zoom below. \nTopic: PCCC Board Quarterly Meeting\nTime: Dec 4\, 2023 06:00 PM Eastern Time (US and Canada) \nJoin Zoom Meeting\nhttps://us06web.zoom.us/j/84400970643?pwd=smooOjJKm4bwUSroYNUQuS6sXf9mOP.1 \nMeeting ID: 844 0097 0643\nPasscode: 768668 \n— \nOne tap mobile\n+13126266799\,\,84400970643#\,\,\,\,*768668# US (Chicago)\n+16469313860\,\,84400970643#\,\,\,\,*768668# US \n— \nDial by your location\n• +1 312 626 6799 US (Chicago)\n• +1 646 931 3860 US\n• +1 929 205 6099 US (New York)\n• +1 301 715 8592 US (Washington DC)\n• +1 305 224 1968 US\n• +1 309 205 3325 US\n• +1 253 205 0468 US\n• +1 253 215 8782 US (Tacoma)\n• +1 346 248 7799 US (Houston)\n• +1 360 209 5623 US\n• +1 386 347 5053 US\n• +1 507 473 4847 US\n• +1 564 217 2000 US\n• +1 669 444 9171 US\n• +1 669 900 6833 US (San Jose)\n• +1 689 278 1000 US\n• +1 719 359 4580 US \nMeeting ID: 844 0097 0643\nPasscode: 768668 \nFind your local number: https://us06web.zoom.us/u/kcZKPUxfK4 \n 
URL:https://www.alleghenymountainradio.org/event/pccc-board-of-directors-quarterly-meeting/
LOCATION:WVMR Studio\, 9836 Browns Creek Road\, Dunmore\, WV\, 24946\, United States
END:VEVENT
END:VCALENDAR