BEGIN:VCALENDAR
VERSION:2.0
PRODID:-//Allegheny Mountain Radio - ECPv6.15.19//NONSGML v1.0//EN
CALSCALE:GREGORIAN
METHOD:PUBLISH
X-WR-CALNAME:Allegheny Mountain Radio
X-ORIGINAL-URL:https://www.alleghenymountainradio.org
X-WR-CALDESC:Events for Allegheny Mountain Radio
REFRESH-INTERVAL;VALUE=DURATION:PT1H
X-Robots-Tag:noindex
X-PUBLISHED-TTL:PT1H
BEGIN:VTIMEZONE
TZID:America/New_York
BEGIN:DAYLIGHT
TZOFFSETFROM:-0500
TZOFFSETTO:-0400
TZNAME:EDT
DTSTART:20230312T070000
END:DAYLIGHT
BEGIN:STANDARD
TZOFFSETFROM:-0400
TZOFFSETTO:-0500
TZNAME:EST
DTSTART:20231105T060000
END:STANDARD
BEGIN:DAYLIGHT
TZOFFSETFROM:-0500
TZOFFSETTO:-0400
TZNAME:EDT
DTSTART:20240310T070000
END:DAYLIGHT
BEGIN:STANDARD
TZOFFSETFROM:-0400
TZOFFSETTO:-0500
TZNAME:EST
DTSTART:20241103T060000
END:STANDARD
BEGIN:DAYLIGHT
TZOFFSETFROM:-0500
TZOFFSETTO:-0400
TZNAME:EDT
DTSTART:20250309T070000
END:DAYLIGHT
BEGIN:STANDARD
TZOFFSETFROM:-0400
TZOFFSETTO:-0500
TZNAME:EST
DTSTART:20251102T060000
END:STANDARD
END:VTIMEZONE
BEGIN:VEVENT
DTSTART;TZID=America/New_York:20240717T190000
DTEND;TZID=America/New_York:20240717T200000
DTSTAMP:20260422T192228
CREATED:20240708T192523Z
LAST-MODIFIED:20240708T200856Z
UID:26475-1721242800-1721246400@www.alleghenymountainradio.org
SUMMARY:WVMR Community Advisory Committee Quarterly Meeting
DESCRIPTION:The WVMR CAC will hold  quarterly meeting via Zoom Wednesday\, July 17th at 7:00 pm. \nThe Link and instructions for attending are below. \nJoin Zoom Meeting\nhttps://us06web.zoom.us/j/83425405881?pwd=Jl0z3n7PNH4qRgizRata1wzZYPWOK6.1 \nMeeting ID: 834 2540 5881\nPasscode: 675411 \n— \nOne tap mobile\n+13126266799\,\,83425405881#\,\,\,\,*675411# US (Chicago)\n+16469313860\,\,83425405881#\,\,\,\,*675411# US \n— \nDial by your location\n• +1 312 626 6799 US (Chicago)\n• +1 646 931 3860 US\n• +1 929 205 6099 US (New York)\n• +1 301 715 8592 US (Washington DC)\n• +1 305 224 1968 US\n• +1 309 205 3325 US\n• +1 669 444 9171 US\n• +1 669 900 6833 US (San Jose)\n• +1 689 278 1000 US\n• +1 719 359 4580 US\n• +1 253 205 0468 US\n• +1 253 215 8782 US (Tacoma)\n• +1 346 248 7799 US (Houston)\n• +1 360 209 5623 US\n• +1 386 347 5053 US\n• +1 507 473 4847 US\n• +1 564 217 2000 US \nMeeting ID: 834 2540 5881\nPasscode: 675411 \nFind your local number: https://us06web.zoom.us/u/kBc7Yvz7X \n 
URL:https://www.alleghenymountainradio.org/event/wvmr-community-advisory-committee-quarterly-meeting-3/
END:VEVENT
BEGIN:VEVENT
DTSTART;TZID=America/New_York:20240722T180000
DTEND;TZID=America/New_York:20240722T190000
DTSTAMP:20260422T192228
CREATED:20240711T135338Z
LAST-MODIFIED:20240711T135338Z
UID:26618-1721671200-1721674800@www.alleghenymountainradio.org
SUMMARY:WVLS Community Advisory Committee Quarterly Meeting
DESCRIPTION:The WVLS CAC will hold a quarterly meeting Monday\, July 22nd at the WVLS station at 80 East Main Street in Monterey at 6:00 pm. The public is invited to attend.
URL:https://www.alleghenymountainradio.org/event/wvls-community-advisory-committee-quarterly-meeting-5/
LOCATION:WVLS Studio\, 80 E. Main Street\, Monterey\, VA\, 24465\, United States
END:VEVENT
END:VCALENDAR