BEGIN:VCALENDAR
VERSION:2.0
PRODID:-//Allegheny Mountain Radio - ECPv6.15.19//NONSGML v1.0//EN
CALSCALE:GREGORIAN
METHOD:PUBLISH
X-ORIGINAL-URL:https://www.alleghenymountainradio.org
X-WR-CALDESC:Events for Allegheny Mountain Radio
REFRESH-INTERVAL;VALUE=DURATION:PT1H
X-Robots-Tag:noindex
X-PUBLISHED-TTL:PT1H
BEGIN:VTIMEZONE
TZID:America/New_York
BEGIN:DAYLIGHT
TZOFFSETFROM:-0500
TZOFFSETTO:-0400
TZNAME:EDT
DTSTART:20240310T070000
END:DAYLIGHT
BEGIN:STANDARD
TZOFFSETFROM:-0400
TZOFFSETTO:-0500
TZNAME:EST
DTSTART:20241103T060000
END:STANDARD
BEGIN:DAYLIGHT
TZOFFSETFROM:-0500
TZOFFSETTO:-0400
TZNAME:EDT
DTSTART:20250309T070000
END:DAYLIGHT
BEGIN:STANDARD
TZOFFSETFROM:-0400
TZOFFSETTO:-0500
TZNAME:EST
DTSTART:20251102T060000
END:STANDARD
BEGIN:DAYLIGHT
TZOFFSETFROM:-0500
TZOFFSETTO:-0400
TZNAME:EDT
DTSTART:20260308T070000
END:DAYLIGHT
BEGIN:STANDARD
TZOFFSETFROM:-0400
TZOFFSETTO:-0500
TZNAME:EST
DTSTART:20261101T060000
END:STANDARD
END:VTIMEZONE
BEGIN:VEVENT
DTSTART;TZID=America/New_York:20250110T180000
DTEND;TZID=America/New_York:20250110T190000
DTSTAMP:20260422T100342
CREATED:20250106T201600Z
LAST-MODIFIED:20250106T201600Z
UID:27867-1736532000-1736535600@www.alleghenymountainradio.org
SUMMARY:Pocahontas Communication Cooperative Corporation Board of Directors Called Meeting
DESCRIPTION:The Pocahontas Communication Cooperative Corporation Board of Directors have called a special meeting for Friday at 6:00 pm via Zoom. Attendance instructions can be found below. \nMeeting ID: 879 3678 6277\nPasscode: 759342 \n— \nOne tap mobile\n+19292056099\,\,87936786277#\,\,\,\,*759342# US (New York)\n+13017158592\,\,87936786277#\,\,\,\,*759342# US (Washington DC) \n— \nDial by your location\n• +1 929 205 6099 US (New York)\n• +1 301 715 8592 US (Washington DC)\n• +1 305 224 1968 US\n• +1 309 205 3325 US\n• +1 312 626 6799 US (Chicago)\n• +1 646 931 3860 US\n• +1 253 215 8782 US (Tacoma)\n• +1 346 248 7799 US (Houston)\n• +1 360 209 5623 US\n• +1 386 347 5053 US\n• +1 507 473 4847 US\n• +1 564 217 2000 US\n• +1 669 444 9171 US\n• +1 669 900 6833 US (San Jose)\n• +1 689 278 1000 US\n• +1 719 359 4580 US\n• +1 253 205 0468 US \nMeeting ID: 879 3678 6277\nPasscode: 759342 \nFind your local number: https://us06web.zoom.us/u/kbkBCNUzXK \n 
URL:https://www.alleghenymountainradio.org/event/pocahontas-communication-cooperative-corporation-board-of-directors-called-meeting/
END:VEVENT
END:VCALENDAR