BEGIN:VCALENDAR
VERSION:2.0
PRODID:-//Allegheny Mountain Radio - ECPv6.15.19//NONSGML v1.0//EN
CALSCALE:GREGORIAN
METHOD:PUBLISH
X-WR-CALNAME:Allegheny Mountain Radio
X-ORIGINAL-URL:https://www.alleghenymountainradio.org
X-WR-CALDESC:Events for Allegheny Mountain Radio
REFRESH-INTERVAL;VALUE=DURATION:PT1H
X-Robots-Tag:noindex
X-PUBLISHED-TTL:PT1H
BEGIN:VTIMEZONE
TZID:America/New_York
BEGIN:DAYLIGHT
TZOFFSETFROM:-0500
TZOFFSETTO:-0400
TZNAME:EDT
DTSTART:20240310T070000
END:DAYLIGHT
BEGIN:STANDARD
TZOFFSETFROM:-0400
TZOFFSETTO:-0500
TZNAME:EST
DTSTART:20241103T060000
END:STANDARD
BEGIN:DAYLIGHT
TZOFFSETFROM:-0500
TZOFFSETTO:-0400
TZNAME:EDT
DTSTART:20250309T070000
END:DAYLIGHT
BEGIN:STANDARD
TZOFFSETFROM:-0400
TZOFFSETTO:-0500
TZNAME:EST
DTSTART:20251102T060000
END:STANDARD
BEGIN:DAYLIGHT
TZOFFSETFROM:-0500
TZOFFSETTO:-0400
TZNAME:EDT
DTSTART:20260308T070000
END:DAYLIGHT
BEGIN:STANDARD
TZOFFSETFROM:-0400
TZOFFSETTO:-0500
TZNAME:EST
DTSTART:20261101T060000
END:STANDARD
END:VTIMEZONE
BEGIN:VEVENT
DTSTART;TZID=America/New_York:20250922T180000
DTEND;TZID=America/New_York:20250922T200000
DTSTAMP:20260421T211447
CREATED:20250910T195043Z
LAST-MODIFIED:20250916T192852Z
UID:28649-1758564000-1758571200@www.alleghenymountainradio.org
SUMMARY:Pocahontas Communications Cooperative Corporation Board of Directors Quarterly Meeting - 09/22/25
DESCRIPTION:The PCCC Board of Directors will hold a quarterly meeting Monday\, September 22nd at 6:00 pm at the WCHG Studio at 171 Charger Lane in Hot Springs\, VA 24445. \nInstructions for attending virtually are below.\nJoin Zoom Meeting\nhttps://us06web.zoom.us/j/87484611654?pwd=kx13zKmFrwFC63uuPrxuy9sg2BiHDF.1 \nMeeting ID: 874 8461 1654\nPasscode: 943707 \n— \nOne tap mobile\n+13017158592\,\,87484611654#\,\,\,\,*943707# US (Washington DC)\n+13052241968\,\,87484611654#\,\,\,\,*943707# US \nJoin instructions\nhttps://us06web.zoom.us/meetings/87484611654/invitations?signature=zC4Ak-txNQS3x9tx4Ho9mzsiRL4zW2l1uvnysHXeRjo \nus06web.zoom.us/meetings/89881519682/invitations?signature=FjhFCo1LHGfw0hHwetM9w85k1Bjb5NK1PqUpl5sOhDs
URL:https://www.alleghenymountainradio.org/event/pocahontas-communications-cooperative-corporation-board-of-directors-quarterly-meeting-09-22-25/
END:VEVENT
END:VCALENDAR